Workbook

Sheet Rekapitulace stavby
A1: Export VZ | D1: List obsahuje: | K1: 1) Rekapitulace stavby | W1: 2) Rekapitulace objektů stavby a soupisů prací | BA1: 3.0 | BB1: ZAMOK | BT1: False | BU1: False | BV1: {3b14c735-9f4b-465e-8e9b-fbc510fa2847}
BS2: 0,01 | BT2: 21
BS3: 0,01 | BT3: 15
D4: REKAPITULACE STAVBY | AS4: v --- níže se nacházejí doplnkové a pomocné údaje k sestavám --- v | BE4: Návod na vyplnění | BS4: 0,001
D5: Kód: | K5: 17-64 | BE5: Měnit lze pouze buňky se žlutým podbarvením!_x000D_ _x000D_ 1) v Rekapitulaci stavby vyplňte údaje o Uchazeči (přenesou se do ostatních sestav i v jiných listech)_x000D_ _x000D_ 2) na vybraných listech vyplňte v sestavě Soupis prací ceny u položek_x000D_ _x000D_ Podrobnosti k vyplnění naleznete na poslední záložce s Pokyny pro vyplnění | BS5: 0,01
D6: Stavba: | K6: Oprava vozovky ul. Zelená, Děčín | BS6: 0,01
D7: KSO: | AK7: CC-CZ: | BS7: 0,01
D8: Místo: | K8: p.p.č. 358, Děčín - Staré Město | AK8: Datum: | AN8: 20.10.2017 | BS8: 0,01
BS9: 0,01
D10: Zadavatel: | AK10: IČ: | BS10: 0,01
AK11: DIČ: | BS11: 0,01
BS12: 0,01
D13: Uchazeč: | AK13: IČ: | AN13: Vyplň údaj | BS13: 0,01
E14: Vyplň údaj | AK14: DIČ: | AN14: Vyplň údaj | BS14: 0,01
BS15: False
D16: Projektant: | AK16: IČ: | BS16: False
AK17: DIČ: | BS17: True
BS18: 0,01
D19: Poznámka: | BS19: 0,01
BS20: True
D23: Cena bez DPH | AK23: =ROUND(AG51,2) -> 0
L25: Sazba daně | W25: Základ daně | AK25: Výše daně
D26: DPH | F26: základní | L26: 0.21 | W26: =ROUND(AZ51,2) -> 0 | AK26: =ROUND(AV51,2) -> 0
F27: snížená | L27: 0.15 | W27: =ROUND(BA51,2) -> 0 | AK27: =ROUND(AW51,2) -> 0
F28: zákl. přenesená | L28: 0.21 | W28: =ROUND(BB51,2) -> 0 | AK28: 0
F29: sníž. přenesená | L29: 0.15 | W29: =ROUND(BC51,2) -> 0 | AK29: 0
F30: nulová | L30: 0 | W30: =ROUND(BD51,2) -> 0 | AK30: 0
D32: Cena s DPH | T32: v | X32: CZK | AK32: =SUM(AK23:AK30) -> 0
C39: REKAPITULACE OBJEKTŮ STAVBY A SOUPISŮ PRACÍ
C41: Kód: | L41: =K5 -> 17-64
C42: Stavba: | L42: =K6 -> Oprava vozovky ul. Zelená, Děčín
C44: Místo: | L44: =IF(K8="","",K8) -> p.p.č. 358, Děčín - Staré Město | AI44: Datum: | AM44: =IF(AN8= "","",AN8) -> 20.10.2017
C46: Zadavatel: | L46: =IF(E11= "","",E11) | AI46: Projektant: | AM46: =IF(E17="","",E17) | AS46: Informatívní údaje z listů zakázek
C47: Uchazeč: | L47: =IF(E14= "Vyplň údaj","",E14)
C49: Kód | I49: Objekt, Soupis prací | AG49: Cena bez DPH [CZK] | AN49: Cena s DPH [CZK] | AQ49: Typ | AS49: z toho Ostat._x000D_ náklady [CZK] | AT49: DPH [CZK] | AU49: Normohodiny [h] | AV49: DPH základní [CZK] | AW49: DPH snížená [CZK] | AX49: DPH základní přenesená_x000D_ [CZK] | AY49: DPH snížená přenesená_x000D_ [CZK] | AZ49: Základna_x000D_ DPH základní | BA49: Základna_x000D_ DPH snížená | BB49: Základna_x000D_ DPH zákl. přenesená | BC49: Základna_x000D_ DPH sníž. přenesená | BD49: Základna_x000D_ DPH nulová
C51: Náklady stavby celkem | AG51: =ROUND(AG52,2) -> 0 | AN51: =SUM(AG51,AT51) -> 0 | AS51: =ROUND(AS52,2) -> 0 | AT51: =ROUND(SUM(AV51:AW51),2) -> 0 | AU51: =ROUND(AU52,5) -> 0 | AV51: =ROUND(AZ51*L26,2) -> 0 | AW51: =ROUND(BA51*L27,2) -> 0 | AX51: =ROUND(BB51*L26,2) -> 0 | AY51: =ROUND(BC51*L27,2) -> 0 | AZ51: =ROUND(AZ52,2) -> 0 | BA51: =ROUND(BA52,2) -> 0 | BB51: =ROUND(BB52,2) -> 0 | BC51: =ROUND(BC52,2) -> 0 | BD51: =ROUND(BD52,2) -> 0 | BS51: D | BT51: 0 | BV51: IMPORT | BW51: {3b14c735-9f4b-465e-8e9b-fbc510fa2847} | BX51: {00000000-0000-0000-0000-000000000000}
A52: / | D52: 17-64 | J52: Oprava vozovky ul. Zelená, Děčín | AG52: ='17-64 - Oprava vozovky ul...'!J25 -> 0 | AN52: =SUM(AG52,AT52) -> 0 | AQ52: STA | AS52: 0 | AT52: =ROUND(SUM(AV52:AW52),2) -> 0 | AU52: ='17-64 - Oprava vozovky ul...'!P82 -> 0 | AV52: ='17-64 - Oprava vozovky ul...'!J28 -> 0 | AW52: ='17-64 - Oprava vozovky ul...'!J29 -> 0 | AX52: ='17-64 - Oprava vozovky ul...'!J30 -> 0 | AY52: ='17-64 - Oprava vozovky ul...'!J31 -> 0 | AZ52: ='17-64 - Oprava vozovky ul...'!F28 -> 0 | BA52: ='17-64 - Oprava vozovky ul...'!F29 -> 0 | BB52: ='17-64 - Oprava vozovky ul...'!F30 -> 0 | BC52: ='17-64 - Oprava vozovky ul...'!F31 -> 0 | BD52: ='17-64 - Oprava vozovky ul...'!F32 -> 0 | BT52: 1 | BU52: ###NOINSERT### | BV52: IMPORT | BW52: {3b14c735-9f4b-465e-8e9b-fbc510fa2847} | BX52: {00000000-0000-0000-0000-000000000000}

Sheet 17-64 - Oprava vozovky ul...
D1: List obsahuje: | F1: 1) Krycí list soupisu | G1: 2) Rekapitulace | J1: 3) Soupis prací | K1: Zpět na list: | L1: Rekapitulace stavby
AT2: {3b14c735-9f4b-465e-8e9b-fbc510fa2847} | AZ2: obsyp | BC2: 31,705 | BD2: 2
AT3: 2 | AZ3: odkop | BC3: 295,9 | BD3: 2
D4: KRYCÍ LIST SOUPISU | M4: v --- níže se nacházejí doplnkové a pomocné údaje k sestavám --- v | AT4: False | AZ4: odvoz | BC4: 354,856 | BD4: 2
AZ5: rýh | BC5: 149,175 | BD5: 2
D6: Stavba: | AZ6: sutbet | BC6: 1,333 | BD6: 2
E7: Oprava vozovky ul. Zelená, Děčín | AZ7: sutkam | BC7: 0,065 | BD7: 2
AZ8: sutziv | BC8: 12,8 | BD8: 2
D9: KSO: | I9: CC-CZ: | AZ9: trav | BC9: 45 | BD9: 2
D10: Místo: | F10: p.p.č. 358, Děčín - Staré Město | I10: Datum: | J10: ='Rekapitulace stavby'!AN8 -> 20.10.2017 | AZ10: sklV3 | BC10: 330 | BD10: 2
AZ11: sklV1 | BC11: 115 | BD11: 2
D12: Zadavatel: | I12: IČ: | J12: =IF('Rekapitulace stavby'!AN10="","",'Rekapitulace stavby'!AN10) | AZ12: zásyp | BC12: 58,514 | BD12: 2
E13: =IF('Rekapitulace stavby'!E11="","",'Rekapitulace stavby'!E11) | I13: DIČ: | J13: =IF('Rekapitulace stavby'!AN11="","",'Rekapitulace stavby'!AN11) | AZ13: paž | BC13: 91,5 | BD13: 2
AZ14: trav2 | BC14: 6 | BD14: 2
D15: Uchazeč: | I15: IČ: | J15: =IF('Rekapitulace stavby'!AN13="Vyplň údaj","",IF('Rekapitulace stavby'!AN13="","",'Rekapitulace stavby'!AN13)) | AZ15: sklV2 | BC15: 98 | BD15: 2
E16: =IF('Rekapitulace stavby'!E14="Vyplň údaj","",IF('Rekapitulace stavby'!E14="","",'Rekapitulace stavby'!E14)) | I16: DIČ: | J16: =IF('Rekapitulace stavby'!AN14="Vyplň údaj","",IF('Rekapitulace stavby'!AN14="","",'Rekapitulace stavby'!AN14)) | AZ16: D150 | BC16: 42 | BD16: 2
AZ17: D200 | BC17: 30,5 | BD17: 2
D18: Projektant: | I18: IČ: | J18: =IF('Rekapitulace stavby'!AN16="","",'Rekapitulace stavby'!AN16)
E19: =IF('Rekapitulace stavby'!E17="","",'Rekapitulace stavby'!E17) | I19: DIČ: | J19: =IF('Rekapitulace stavby'!AN17="","",'Rekapitulace stavby'!AN17)
D21: Poznámka:
D25: Cena bez DPH | J25: =ROUND(J82,2) -> 0
F27: Základ daně | I27: Sazba daně | J27: Výše daně
D28: DPH | E28: základní | F28: =ROUND(SUM(BE82:BE262), 2) -> 0 | I28: 0.21 | J28: =ROUND(ROUND((SUM(BE82:BE262)), 2)*I28, 2) -> 0
E29: snížená | F29: =ROUND(SUM(BF82:BF262), 2) -> 0 | I29: 0.15 | J29: =ROUND(ROUND((SUM(BF82:BF262)), 2)*I29, 2) -> 0
E30: zákl. přenesená | F30: =ROUND(SUM(BG82:BG262), 2) -> 0 | I30: 0.21 | J30: 0
E31: sníž. přenesená | F31: =ROUND(SUM(BH82:BH262), 2) -> 0 | I31: 0.15 | J31: 0
E32: nulová | F32: =ROUND(SUM(BI82:BI262), 2) -> 0 | I32: 0 | J32: 0
D34: Cena s DPH | G34: v | H34: CZK | J34: =SUM(J25:J32) -> 0
C40: REKAPITULACE ČLENĚNÍ SOUPISU PRACÍ
C42: Stavba:
E43: =E7 -> Oprava vozovky ul. Zelená, Děčín
C45: Místo: | F45: =F10 -> p.p.č. 358, Děčín - Staré Město | I45: Datum: | J45: =IF(J10="","",J10) -> 20.10.2017
C47: Zadavatel: | F47: =E13 | I47: Projektant: | J47: =E19
C48: Uchazeč: | F48: =IF(E16="","",E16)
C50: Kód dílu - Popis | J50: Cena celkem [CZK]
C52: Náklady soupisu celkem | J52: =J82 -> 0 | AU52: -1
D53: HSV - Práce a dodávky HSV | J53: =J83 -> 0
D54: 1 - Zemní práce | J54: =J84 -> 0
D55: 4 - Vodorovné konstrukce | J55: =J152 -> 0
D56: 5 - Komunikace pozemní | J56: =J155 -> 0
D57: 8 - Trubní vedení | J57: =J189 -> 0
D58: 9 - Ostatní konstrukce a práce, bourání | J58: =J214 -> 0
D59: 997 - Přesun sutě | J59: =J236 -> 0
D60: 998 - Přesun hmot | J60: =J252 -> 0
D61: VRN - Vedlejší rozpočtové náklady | J61: =J254 -> 0
D62: VRN1 - Průzkumné, geodetické a projektové práce | J62: =J255 -> 0
D63: VRN3 - Zařízení staveniště | J63: =J258 -> 0
D64: VRN4 - Inženýrská činnost | J64: =J261 -> 0
C71: SOUPIS PRACÍ
C73: Stavba:
E74: =E7 -> Oprava vozovky ul. Zelená, Děčín
C76: Místo: | F76: =F10 -> p.p.č. 358, Děčín - Staré Město | I76: Datum: | J76: =IF(J10="","",J10) -> 20.10.2017
C78: Zadavatel: | F78: =E13 | I78: Projektant: | J78: =E19
C79: Uchazeč: | F79: =IF(E16="","",E16)
C81: PČ | D81: Typ | E81: Kód | F81: Popis | G81: MJ | H81: Množství | I81: J.cena [CZK] | J81: Cena celkem [CZK] | K81: Cenová soustava | M81: Poznámka | N81: DPH | O81: J. Nh [h] | P81: Nh celkem [h] | Q81: J. hmotnost_x000D_ [t] | R81: Hmotnost_x000D_ celkem [t] | S81: J. suť [t] | T81: Suť Celkem [t]
C82: Náklady soupisu celkem | J82: =BK82 -> 0 | P82: =P83+P254 -> 0 | R82: =R83+R254 -> 192.62901 | T82: =T83+T254 -> 14.1975 | AT82: D | AU82: -1 | BK82: =BK83+BK254 -> 0
D83: D | E83: HSV | F83: Práce a dodávky HSV | J83: =BK83 -> 0 | P83: =P84+P152+P155+P189+P214+P236+P252 -> 0 | R83: =R84+R152+R155+R189+R214+R236+R252 -> 192.62901 | T83: =T84+T152+T155+T189+T214+T236+T252 -> 14.1975 | AR83: 1 | AT83: D | AU83: 0 | AY83: ROZPOCET | BK83: =BK84+BK152+BK155+BK189+BK214+BK236+BK252 -> 0
D84: D | E84: 1 | F84: Zemní práce | J84: =BK84 -> 0 | P84: =SUM(P85:P151) -> 0 | R84: =SUM(R85:R151) -> 0.085795 | T84: =SUM(T85:T151) -> 14.1325 | AR84: 1 | AT84: D | AU84: 1 | AY84: ROZPOCET | BK84: =SUM(BK85:BK151) -> 0
C85: 1 | D85: K | E85: 111201101 | F85: Odstranění křovin a stromů průměru kmene do 100 mm i s kořeny z celkové plochy do 1000 m2 | G85: m2 | H85: 22 | J85: =ROUND(I85*H85,2) -> 0 | K85: CS ÚRS 2017 01 | N85: základní | P85: =O85*H85 -> 0 | Q85: 0 | R85: =Q85*H85 -> 0 | S85: 0 | T85: =S85*H85 -> 0 | AR85: 4 | AT85: K | AU85: 2 | AY85: ROZPOCET | BE85: =IF(N85="základní",J85,0) -> 0 | BF85: =IF(N85="snížená",J85,0) -> 0 | BG85: =IF(N85="zákl. přenesená",J85,0) -> 0 | BH85: =IF(N85="sníž. přenesená",J85,0) -> 0 | BI85: =IF(N85="nulová",J85,0) -> 0 | BJ85: 1 | BK85: =ROUND(I85*H85,2) -> 0 | BL85: 4 | BM85: -962392269
C86: 2 | D86: K | E86: 111201401 | F86: Spálení křovin a stromů průměru kmene do 100 mm | G86: m2 | H86: 22 | J86: =ROUND(I86*H86,2) -> 0 | K86: CS ÚRS 2017 01 | N86: základní | P86: =O86*H86 -> 0 | Q86: 0.00018 | R86: =Q86*H86 -> 0.00396 | S86: 0 | T86: =S86*H86 -> 0 | AR86: 4 | AT86: K | AU86: 2 | AY86: ROZPOCET | BE86: =IF(N86="základní",J86,0) -> 0 | BF86: =IF(N86="snížená",J86,0) -> 0 | BG86: =IF(N86="zákl. přenesená",J86,0) -> 0 | BH86: =IF(N86="sníž. přenesená",J86,0) -> 0 | BI86: =IF(N86="nulová",J86,0) -> 0 | BJ86: 1 | BK86: =ROUND(I86*H86,2) -> 0 | BL86: 4 | BM86: -1900378857
C87: 3 | D87: K | E87: 112101101 | F87: Kácení stromů listnatých D kmene do 300 mm | G87: kus | H87: 6 | J87: =ROUND(I87*H87,2) -> 0 | K87: CS ÚRS 2017 01 | N87: základní | P87: =O87*H87 -> 0 | Q87: 0 | R87: =Q87*H87 -> 0 | S87: 0 | T87: =S87*H87 -> 0 | AR87: 4 | AT87: K | AU87: 2 | AY87: ROZPOCET | BE87: =IF(N87="základní",J87,0) -> 0 | BF87: =IF(N87="snížená",J87,0) -> 0 | BG87: =IF(N87="zákl. přenesená",J87,0) -> 0 | BH87: =IF(N87="sníž. přenesená",J87,0) -> 0 | BI87: =IF(N87="nulová",J87,0) -> 0 | BJ87: 1 | BK87: =ROUND(I87*H87,2) -> 0 | BL87: 4 | BM87: -778061708
C88: 4 | D88: K | E88: 112201101 | F88: Odstranění pařezů D do 300 mm | G88: kus | H88: 6 | J88: =ROUND(I88*H88,2) -> 0 | K88: CS ÚRS 2017 01 | N88: základní | P88: =O88*H88 -> 0 | Q88: 5e-05 | R88: =Q88*H88 -> 0.0003 | S88: 0 | T88: =S88*H88 -> 0 | AR88: 4 | AT88: K | AU88: 2 | AY88: ROZPOCET | BE88: =IF(N88="základní",J88,0) -> 0 | BF88: =IF(N88="snížená",J88,0) -> 0 | BG88: =IF(N88="zákl. přenesená",J88,0) -> 0 | BH88: =IF(N88="sníž. přenesená",J88,0) -> 0 | BI88: =IF(N88="nulová",J88,0) -> 0 | BJ88: 1 | BK88: =ROUND(I88*H88,2) -> 0 | BL88: 4 | BM88: 480175546
C89: 5 | D89: K | E89: 11310511R | F89: Rozebrání stávající opěrné zdi z pískovcových kamenů | G89: m2 | H89: 1.235 | J89: =ROUND(I89*H89,2) -> 0 | N89: základní | P89: =O89*H89 -> 0 | Q89: 0 | R89: =Q89*H89 -> 0 | S89: 0 | T89: =S89*H89 -> 0 | AR89: 4 | AT89: K | AU89: 2 | AY89: ROZPOCET | BE89: =IF(N89="základní",J89,0) -> 0 | BF89: =IF(N89="snížená",J89,0) -> 0 | BG89: =IF(N89="zákl. přenesená",J89,0) -> 0 | BH89: =IF(N89="sníž. přenesená",J89,0) -> 0 | BI89: =IF(N89="nulová",J89,0) -> 0 | BJ89: 1 | BK89: =ROUND(I89*H89,2) -> 0 | BL89: 4 | BM89: -1905780295
D90: VV | F90: 0,95*1,3 | H90: 1.235 | AT90: VV | AU90: 2 | AV90: 2 | AW90: True | AX90: 1 | AY90: ROZPOCET
C91: 6 | D91: K | E91: 113106123 | F91: Rozebrání dlažeb komunikací pro pěší ze zámkových dlaždic | G91: m2 | H91: 1 | J91: =ROUND(I91*H91,2) -> 0 | K91: CS ÚRS 2017 01 | N91: základní | P91: =O91*H91 -> 0 | Q91: 0 | R91: =Q91*H91 -> 0 | S91: 0 | T91: =S91*H91 -> 0 | AR91: 4 | AT91: K | AU91: 2 | AY91: ROZPOCET | BE91: =IF(N91="základní",J91,0) -> 0 | BF91: =IF(N91="snížená",J91,0) -> 0 | BG91: =IF(N91="zákl. přenesená",J91,0) -> 0 | BH91: =IF(N91="sníž. přenesená",J91,0) -> 0 | BI91: =IF(N91="nulová",J91,0) -> 0 | BJ91: 1 | BK91: =ROUND(I91*H91,2) -> 0 | BL91: 4 | BM91: 77843753
D92: VV | F92: demontáž stávající dlažby v místě dopravní značky | AT92: VV | AU92: 2 | AV92: 1 | AW92: True | AX92: 0 | AY92: ROZPOCET
D93: VV | F93: 1 | H93: 1 | AT93: VV | AU93: 2 | AV93: 2 | AW93: True | AX93: 1 | AY93: ROZPOCET
C94: 7 | D94: K | E94: 113154114 | F94: Frézování živičného krytu tl 100 mm pruh š 0,5 m pl do 500 m2 bez překážek v trase | G94: m2 | H94: 50 | J94: =ROUND(I94*H94,2) -> 0 | K94: CS ÚRS 2017 01 | N94: základní | P94: =O94*H94 -> 0 | Q94: 8e-05 | R94: =Q94*H94 -> 0.004 | S94: 0.256 | T94: =S94*H94 -> 12.8 | AR94: 4 | AT94: K | AU94: 2 | AY94: ROZPOCET | BE94: =IF(N94="základní",J94,0) -> 0 | BF94: =IF(N94="snížená",J94,0) -> 0 | BG94: =IF(N94="zákl. přenesená",J94,0) -> 0 | BH94: =IF(N94="sníž. přenesená",J94,0) -> 0 | BI94: =IF(N94="nulová",J94,0) -> 0 | BJ94: 1 | BK94: =ROUND(I94*H94,2) -> 0 | BL94: 4 | BM94: 188769926
D95: VV | F95: odfrézování stávajících poškozených živičných vrstev | AT95: VV | AU95: 2 | AV95: 1 | AW95: True | AX95: 0 | AY95: ROZPOCET
D96: VV | F96: 50 | H96: 50 | AT96: VV | AU96: 2 | AV96: 2 | AW96: True | AX96: 1 | AY96: ROZPOCET
C97: 8 | D97: K | E97: 113202111 | F97: Vytrhání obrub krajníků obrubníků stojatých | G97: m | H97: 6.5 | J97: =ROUND(I97*H97,2) -> 0 | K97: CS ÚRS 2017 01 | N97: základní | P97: =O97*H97 -> 0 | Q97: 0 | R97: =Q97*H97 -> 0 | S97: 0.205 | T97: =S97*H97 -> 1.3325 | AR97: 4 | AT97: K | AU97: 2 | AY97: ROZPOCET | BE97: =IF(N97="základní",J97,0) -> 0 | BF97: =IF(N97="snížená",J97,0) -> 0 | BG97: =IF(N97="zákl. přenesená",J97,0) -> 0 | BH97: =IF(N97="sníž. přenesená",J97,0) -> 0 | BI97: =IF(N97="nulová",J97,0) -> 0 | BJ97: 1 | BK97: =ROUND(I97*H97,2) -> 0 | BL97: 4 | BM97: -184674153
D98: VV | F98: vybourání stávajícího betonového nájezdu | AT98: VV | AU98: 2 | AV98: 1 | AW98: True | AX98: 0 | AY98: ROZPOCET
D99: VV | F99: 6,5 | H99: 6.5 | AT99: VV | AU99: 2 | AV99: 2 | AW99: True | AX99: 1 | AY99: ROZPOCET
C100: 9 | D100: K | E100: 121101101 | F100: Sejmutí ornice s přemístěním na vzdálenost do 50 m | G100: m3 | H100: 7.95 | J100: =ROUND(I100*H100,2) -> 0 | K100: CS ÚRS 2017 01 | N100: základní | P100: =O100*H100 -> 0 | Q100: 0 | R100: =Q100*H100 -> 0 | S100: 0 | T100: =S100*H100 -> 0 | AR100: 4 | AT100: K | AU100: 2 | AY100: ROZPOCET | BE100: =IF(N100="základní",J100,0) -> 0 | BF100: =IF(N100="snížená",J100,0) -> 0 | BG100: =IF(N100="zákl. přenesená",J100,0) -> 0 | BH100: =IF(N100="sníž. přenesená",J100,0) -> 0 | BI100: =IF(N100="nulová",J100,0) -> 0 | BJ100: 1 | BK100: =ROUND(I100*H100,2) -> 0 | BL100: 4 | BM100: -1449022352
D101: VV | F101: trav*0,15+trav2*0,2 | H101: 7.95 | AT101: VV | AU101: 2 | AV101: 2 | AW101: True | AX101: 1 | AY101: ROZPOCET
C102: 10 | D102: K | E102: 122301102 | F102: Odkopávky a prokopávky nezapažené v hornině tř. 4 objem do 1000 m3 | G102: m3 | H102: 295.9 | J102: =ROUND(I102*H102,2) -> 0 | K102: CS ÚRS 2017 01 | N102: základní | P102: =O102*H102 -> 0 | Q102: 0 | R102: =Q102*H102 -> 0 | S102: 0 | T102: =S102*H102 -> 0 | AR102: 4 | AT102: K | AU102: 2 | AY102: ROZPOCET | BE102: =IF(N102="základní",J102,0) -> 0 | BF102: =IF(N102="snížená",J102,0) -> 0 | BG102: =IF(N102="zákl. přenesená",J102,0) -> 0 | BH102: =IF(N102="sníž. přenesená",J102,0) -> 0 | BI102: =IF(N102="nulová",J102,0) -> 0 | BJ102: 1 | BK102: =ROUND(I102*H102,2) -> 0 | BL102: 4 | BM102: 801632996
D103: VV | F103: odkopávky v ulici zelená | AT103: VV | AU103: 2 | AV103: 1 | AW103: True | AX103: 0 | AY103: ROZPOCET
D104: VV | F104: (120+310)*0,5+180*0,37 | H104: 281.6 | AT104: VV | AU104: 2 | AV104: 2 | AW104: True | AX104: 0 | AY104: ROZPOCET
D105: VV | F105: nezpevněné plochy | AT105: VV | AU105: 2 | AV105: 1 | AW105: True | AX105: 0 | AY105: ROZPOCET
D106: VV | F106: 22*0,15 | H106: 3.3 | AT106: VV | AU106: 2 | AV106: 2 | AW106: True | AX106: 0 | AY106: ROZPOCET
D107: VV | F107: úprava svahu | AT107: VV | AU107: 2 | AV107: 1 | AW107: True | AX107: 0 | AY107: ROZPOCET
D108: VV | F108: 22*0,5 | H108: 11 | AT108: VV | AU108: 2 | AV108: 2 | AW108: True | AX108: 0 | AY108: ROZPOCET
D109: VV | E109: odkop | F109: Součet | H109: 295.9 | AT109: VV | AU109: 2 | AV109: 4 | AW109: True | AX109: 1 | AY109: ROZPOCET
C110: 11 | D110: K | E110: 122301109 | F110: Příplatek za lepivost u odkopávek nezapažených v hornině tř. 4 | G110: m3 | H110: 147.95 | J110: =ROUND(I110*H110,2) -> 0 | K110: CS ÚRS 2017 01 | N110: základní | P110: =O110*H110 -> 0 | Q110: 0 | R110: =Q110*H110 -> 0 | S110: 0 | T110: =S110*H110 -> 0 | AR110: 4 | AT110: K | AU110: 2 | AY110: ROZPOCET | BE110: =IF(N110="základní",J110,0) -> 0 | BF110: =IF(N110="snížená",J110,0) -> 0 | BG110: =IF(N110="zákl. přenesená",J110,0) -> 0 | BH110: =IF(N110="sníž. přenesená",J110,0) -> 0 | BI110: =IF(N110="nulová",J110,0) -> 0 | BJ110: 1 | BK110: =ROUND(I110*H110,2) -> 0 | BL110: 4 | BM110: 28551762
D111: VV | F111: odkop*0,5 | H111: 147.95 | AT111: VV | AU111: 2 | AV111: 2 | AW111: True | AX111: 1 | AY111: ROZPOCET
C112: 12 | D112: K | E112: 132301202 | F112: Hloubení rýh š do 2000 mm v hornině tř. 4 objemu do 1000 m3 | G112: m3 | H112: 149.175 | J112: =ROUND(I112*H112,2) -> 0 | K112: CS ÚRS 2017 01 | N112: základní | P112: =O112*H112 -> 0 | Q112: 0 | R112: =Q112*H112 -> 0 | S112: 0 | T112: =S112*H112 -> 0 | AR112: 4 | AT112: K | AU112: 2 | AY112: ROZPOCET | BE112: =IF(N112="základní",J112,0) -> 0 | BF112: =IF(N112="snížená",J112,0) -> 0 | BG112: =IF(N112="zákl. přenesená",J112,0) -> 0 | BH112: =IF(N112="sníž. přenesená",J112,0) -> 0 | BI112: =IF(N112="nulová",J112,0) -> 0 | BJ112: 1 | BK112: =ROUND(I112*H112,2) -> 0 | BL112: 4 | BM112: 1973422074
D113: VV | F113: ulice pod chlumem | AT113: VV | AU113: 2 | AV113: 1 | AW113: True | AX113: 0 | AY113: ROZPOCET
D114: VV | F114: 8*1,7*1+30,5*1,7*1,5 | H114: 91.375 | AT114: VV | AU114: 2 | AV114: 2 | AW114: True | AX114: 0 | AY114: ROZPOCET
D115: VV | F115: ulice zelená | AT115: VV | AU115: 2 | AV115: 1 | AW115: True | AX115: 0 | AY115: ROZPOCET
D116: VV | F116: 34*1,7*1 | H116: 57.8 | AT116: VV | AU116: 2 | AV116: 2 | AW116: True | AX116: 0 | AY116: ROZPOCET
D117: VV | E117: rýh | F117: Součet | H117: 149.175 | AT117: VV | AU117: 2 | AV117: 4 | AW117: True | AX117: 1 | AY117: ROZPOCET
C118: 13 | D118: K | E118: 132301209 | F118: Příplatek za lepivost k hloubení rýh š do 2000 mm v hornině tř. 4 | G118: m3 | H118: 74.588 | J118: =ROUND(I118*H118,2) -> 0 | K118: CS ÚRS 2017 01 | N118: základní | P118: =O118*H118 -> 0 | Q118: 0 | R118: =Q118*H118 -> 0 | S118: 0 | T118: =S118*H118 -> 0 | AR118: 4 | AT118: K | AU118: 2 | AY118: ROZPOCET | BE118: =IF(N118="základní",J118,0) -> 0 | BF118: =IF(N118="snížená",J118,0) -> 0 | BG118: =IF(N118="zákl. přenesená",J118,0) -> 0 | BH118: =IF(N118="sníž. přenesená",J118,0) -> 0 | BI118: =IF(N118="nulová",J118,0) -> 0 | BJ118: 1 | BK118: =ROUND(I118*H118,2) -> 0 | BL118: 4 | BM118: -483526057
D119: VV | F119: rýh*0,5 | H119: 74.588 | AT119: VV | AU119: 2 | AV119: 2 | AW119: True | AX119: 1 | AY119: ROZPOCET
C120: 14 | D120: K | E120: 151101101 | F120: Zřízení příložného pažení a rozepření stěn rýh hl do 2 m | G120: m2 | H120: 91.5 | J120: =ROUND(I120*H120,2) -> 0 | K120: CS ÚRS 2017 01 | N120: základní | P120: =O120*H120 -> 0 | Q120: 0.00084 | R120: =Q120*H120 -> 0.07686 | S120: 0 | T120: =S120*H120 -> 0 | AR120: 4 | AT120: K | AU120: 2 | AY120: ROZPOCET | BE120: =IF(N120="základní",J120,0) -> 0 | BF120: =IF(N120="snížená",J120,0) -> 0 | BG120: =IF(N120="zákl. přenesená",J120,0) -> 0 | BH120: =IF(N120="sníž. přenesená",J120,0) -> 0 | BI120: =IF(N120="nulová",J120,0) -> 0 | BJ120: 1 | BK120: =ROUND(I120*H120,2) -> 0 | BL120: 4 | BM120: 1243162850
D121: VV | F121: ulice pod chlumem | AT121: VV | AU121: 2 | AV121: 1 | AW121: True | AX121: 0 | AY121: ROZPOCET
D122: VV | E122: paž | F122: 30,5*1,5*2 | H122: 91.5 | AT122: VV | AU122: 2 | AV122: 2 | AW122: True | AX122: 1 | AY122: ROZPOCET
C123: 15 | D123: K | E123: 151101111 | F123: Odstranění příložného pažení a rozepření stěn rýh hl do 2 m | G123: m2 | H123: 91.5 | J123: =ROUND(I123*H123,2) -> 0 | K123: CS ÚRS 2017 01 | N123: základní | P123: =O123*H123 -> 0 | Q123: 0 | R123: =Q123*H123 -> 0 | S123: 0 | T123: =S123*H123 -> 0 | AR123: 4 | AT123: K | AU123: 2 | AY123: ROZPOCET | BE123: =IF(N123="základní",J123,0) -> 0 | BF123: =IF(N123="snížená",J123,0) -> 0 | BG123: =IF(N123="zákl. přenesená",J123,0) -> 0 | BH123: =IF(N123="sníž. přenesená",J123,0) -> 0 | BI123: =IF(N123="nulová",J123,0) -> 0 | BJ123: 1 | BK123: =ROUND(I123*H123,2) -> 0 | BL123: 4 | BM123: -1817152829
D124: VV | F124: paž | H124: 91.5 | AT124: VV | AU124: 2 | AV124: 2 | AW124: True | AX124: 1 | AY124: ROZPOCET
C125: 16 | D125: K | E125: 162201401 | F125: Vodorovné přemístění větví stromů listnatých do 1 km D kmene do 300 mm | G125: kus | H125: 6 | J125: =ROUND(I125*H125,2) -> 0 | K125: CS ÚRS 2017 01 | N125: základní | P125: =O125*H125 -> 0 | Q125: 0 | R125: =Q125*H125 -> 0 | S125: 0 | T125: =S125*H125 -> 0 | AR125: 4 | AT125: K | AU125: 2 | AY125: ROZPOCET | BE125: =IF(N125="základní",J125,0) -> 0 | BF125: =IF(N125="snížená",J125,0) -> 0 | BG125: =IF(N125="zákl. přenesená",J125,0) -> 0 | BH125: =IF(N125="sníž. přenesená",J125,0) -> 0 | BI125: =IF(N125="nulová",J125,0) -> 0 | BJ125: 1 | BK125: =ROUND(I125*H125,2) -> 0 | BL125: 4 | BM125: 1888280333
C126: 17 | D126: K | E126: 162201411 | F126: Vodorovné přemístění kmenů stromů listnatých do 1 km D kmene do 300 mm | G126: kus | H126: 6 | J126: =ROUND(I126*H126,2) -> 0 | K126: CS ÚRS 2017 01 | N126: základní | P126: =O126*H126 -> 0 | Q126: 0 | R126: =Q126*H126 -> 0 | S126: 0 | T126: =S126*H126 -> 0 | AR126: 4 | AT126: K | AU126: 2 | AY126: ROZPOCET | BE126: =IF(N126="základní",J126,0) -> 0 | BF126: =IF(N126="snížená",J126,0) -> 0 | BG126: =IF(N126="zákl. přenesená",J126,0) -> 0 | BH126: =IF(N126="sníž. přenesená",J126,0) -> 0 | BI126: =IF(N126="nulová",J126,0) -> 0 | BJ126: 1 | BK126: =ROUND(I126*H126,2) -> 0 | BL126: 4 | BM126: 1311572238
...

Sheet Pokyny pro vyplnění
C3: Struktura údajů, formát souboru a metodika pro zpracování
C4: Struktura
C6: Soubor je složen ze záložky Rekapitulace stavby a záložek s názvem soupisu prací pro jednotlivé objekty ve formátu XLSX. Každá ze záložek přitom obsahuje
C7: ještě samostatné sestavy vymezené orámovaním a nadpisem sestavy.
C9: Rekapitulace stavby obsahuje sestavu Rekapitulace stavby a Rekapitulace objektů stavby a soupisů prací.
D10: V sestavě Rekapitulace stavby jsou uvedeny informace identifikující předmět veřejné zakázky na stavební práce, KSO, CC-CZ, CZ-CPV, CZ-CPA a rekapitulaci
D11: celkové nabídkové ceny uchazeče.
D13: V sestavě Rekapitulace objektů stavby a soupisů prací je uvedena rekapitulace stavebních objektů, inženýrských objektů, provozních souborů,
D14: vedlejších a ostatních nákladů a ostatních nákladů s rekapitulací nabídkové ceny za jednotlivé soupisy prací. Na základě údaje Typ je možné
D15: identifikovat, zda se jedná o objekt nebo soupis prací pro daný objekt:
E16: STA | F16: Stavební objekt pozemní
E17: ING | F17: Stavební objekt inženýrský
E18: PRO | F18: Provozní soubor
E19: VON | F19: Vedlejší a ostatní náklady
E20: OST | F20: Ostatní
E21: Soupis | F21: Soupis prací pro daný typ objektu
C23: Soupis prací pro jednotlivé objekty obsahuje sestavy Krycí list soupisu, Rekapitulace členění soupisu prací, Soupis prací. Za soupis prací může být považován
C24: i objekt stavby v případě, že neobsahuje podřízenou zakázku.
D25: Krycí list soupisu obsahuje rekapitulaci informací o předmětu veřejné zakázky ze sestavy Rekapitulace stavby, informaci o zařazení objektu do KSO,
D26: CC-CZ, CZ-CPV, CZ-CPA a rekapitulaci celkové nabídkové ceny uchazeče za aktuální soupis prací.
D28: Rekapitulace členění soupisu prací obsahuje rekapitulaci soupisu prací ve všech úrovních členění soupisu tak, jak byla tato členění použita (např.
D29: stavební díly, funkční díly, případně jiné členění) s rekapitulací nabídkové ceny.
D31: Soupis prací obsahuje položky veškerých stavebních nebo montážních prací, dodávek materiálů a služeb nezbytných pro zhotovení stavebního objektu,
D32: inženýrského objektu, provozního souboru, vedlejších a ostatních nákladů.
D33: Pro položky soupisu prací se zobrazují následující informace:
E34: PČ | G34: Pořadové číslo položky v aktuálním soupisu
E35: TYP | G35: Typ položky: K - konstrukce, M - materiál, PP - plný popis, PSC - poznámka k souboru cen, P - poznámka k položce, VV - výkaz výměr
E36: Kód | G36: Kód položky
E37: Popis | G37: Zkrácený popis položky
E38: MJ | G38: Měrná jednotka položky
E39: Množství | G39: Množství v měrné jednotce
E40: J.cena | G40: Jednotková cena položky. Zadaní může obsahovat namísto J.ceny sloupce J.materiál a J.montáž, jejichž součet definuje
G41: J.cenu položky.
E42: Cena celkem | G42: Celková cena položky daná jako součin množství a j.ceny
E43: Cenová soustava | G43: Příslušnost položky do cenové soustavy
D45: Ke každé položce soupisu prací se na samostatných řádcích může zobrazovat:
E46: Plný popis položky
E47: Poznámka k souboru cen a poznámka zadavatele
E48: Výkaz výměr
D49: Pokud je k řádku výkazu výměr evidovaný údaj ve sloupci Kód, jedná se o definovaný odkaz, na který se může odvolávat výkaz výměr z jiné položky.
C50: Metodika pro zpracování
C52: Jednotlivé sestavy jsou v souboru provázány. Editovatelné pole jsou zvýrazněny žlutým podbarvením, ostatní pole neslouží k editaci a nesmí být jakkoliv
C53: modifikovány.
C55: Uchazeč je pro podání nabídky povinen vyplnit žlutě podbarvená pole:
D56: Pole Uchazeč v sestavě Rekapitulace stavby - zde uchazeč vyplní svůj název (název subjektu)
D57: Pole IČ a DIČ v sestavě Rekapitulace stavby - zde uchazeč vyplní svoje IČ a DIČ
D58: Datum v sestavě Rekapitulace stavby - zde uchazeč vyplní datum vytvoření nabídky
D59: J.cena = jednotková cena v sestavě Soupis prací o maximálním počtu desetinných míst uvedených v poli
D60: - pokud sestavy soupisů prací obsahují pole J.cena, musí být všechna tato pole vyplněna nenulovými kladnými číslicemi
D61: Poznámka - nepovinný údaj pro položku soupisu
D63: V případě, že sestavy soupisů prací neobsahují pole J.cena, potom ve všech soupisech prací obsahují pole:
D64: - J.materiál - jednotková cena materiálu
D65: - J.montáž - jednotková cena montáže
D66: Uchazeč je v tomto případě povinen vyplnit všechna pole J.materiál a pole J.montáž nenulovými kladnými číslicemi. V případech, kdy položka
D67: neobsahuje žádný materiál je přípustné, aby pole J.materiál bylo vyplněno nulou. V případech, kdy položka neobsahuje žádnou montáž je přípustné,
D68: aby pole J.montáž bylo vyplněno nulou. Není však přípustné, aby obě pole - J.materiál, J.Montáž byly u jedné položky vyplněny nulou.
C73: Rekapitulace stavby
C74: Název | F74: Povinný | H74: Popis | I74: Typ | J74: Max. počet
C75: atributu | F75: (A/N) | J75: znaků
C77: Kód | F77: A | H77: Kód stavby | I77: String | J77: 20
C78: Stavba | F78: A | H78: Název stavby | I78: String | J78: 120
C79: Místo | F79: N | H79: Místo stavby | I79: String | J79: 50
C80: Datum | F80: A | H80: Datum vykonaného exportu | I80: Date
C81: KSO | F81: N | H81: Klasifikace stavebního objektu | I81: String | J81: 15
C82: CC-CZ | F82: N | H82: Klasifikace stavbeních děl | I82: String | J82: 15
C83: CZ-CPV | F83: N | H83: Společný slovník pro veřejné zakázky | I83: String | J83: 20
C84: CZ-CPA | F84: N | H84: Klasifikace produkce podle činností | I84: String | J84: 20
C85: Zadavatel | F85: N | H85: Zadavatel zadaní | I85: String | J85: 50
C86: IČ | F86: N | H86: IČ zadavatele zadaní | I86: String | J86: 20
C87: DIČ | F87: N | H87: DIČ zadavatele zadaní | I87: String | J87: 20
C88: Uchazeč | F88: N | H88: Uchazeč veřejné zakázky | I88: String | J88: 50
C89: Projektant | F89: N | H89: Projektant | I89: String | J89: 50
C90: Poznámka | F90: N | H90: Poznámka k zadání | I90: String | J90: 255
C91: Sazba DPH | F91: A | H91: Rekapitulace sazeb DPH u položek soupisů | I91: eGSazbaDph
C92: Základna DPH | F92: A | H92: Základna DPH určena součtem celkové ceny z položek soupisů | I92: Double
C93: Hodnota DPH | F93: A | H93: Hodnota DPH | I93: Double
C94: Cena bez DPH | F94: A | H94: Celková cena bez DPH za celou stavbu. Sčítává se ze všech listů. | I94: Double
C95: Cena s DPH | F95: A | H95: Celková cena s DPH za celou stavbu | I95: Double
C100: Rekapitulace objektů stavby a soupisů prací
C101: Název | F101: Povinný | H101: Popis | I101: Typ | J101: Max. počet
C102: atributu | F102: (A/N) | J102: znaků
C104: Kód | F104: A | H104: Přebírá se z Rekapitulace stavby | I104: String | J104: 20
C105: Stavba | F105: A | H105: Přebírá se z Rekapitulace stavby | I105: String | J105: 120
C106: Místo | F106: N | H106: Přebírá se z Rekapitulace stavby | I106: String | J106: 50
C107: Datum | F107: A | H107: Přebírá se z Rekapitulace stavby | I107: Date
C108: Zadavatel | F108: N | H108: Přebírá se z Rekapitulace stavby | I108: String | J108: 50
C109: Projektant | F109: N | H109: Přebírá se z Rekapitulace stavby | I109: String | J109: 50
C110: Uchazeč | F110: N | H110: Přebírá se z Rekapitulace stavby | I110: String | J110: 50
C111: Kód | F111: A | H111: Kód objektu | I111: String | J111: 20
C112: Objektu, Soupis prací | F112: A | H112: Název objektu | I112: String | J112: 120
C113: Cena bez DPH | F113: A | H113: Cena bez DPH za daný objekt | I113: Double
C114: Cena s DPH | F114: A | H114: Cena spolu s DPH za daný objekt | I114: Double
C115: Typ | F115: A | H115: Typ zakázky | I115: eGTypZakazky
C120: Krycí list soupisu
C121: Název | F121: Povinný | H121: Popis | I121: Typ | J121: Max. počet
C122: atributu | F122: (A/N) | J122: znaků
C124: Stavba | F124: A | H124: Přebírá se z Rekapitulace stavby | I124: String | J124: 120
C125: Objekt | F125: A | H125: Kód a název objektu | I125: String | J125: 20 + 120
C126: Soupis | F126: A | H126: Kód a název soupisu | I126: String | J126: 20 + 120
C127: KSO | F127: N | H127: Klasifikace stavebního objektu | I127: String | J127: 15
...
